BEGIN:VCALENDAR
VERSION:2.0
PRODID:-//Plone.org//NONSGML plone.app.event//EN
X-WR-TIMEZONE:Europe/Madrid
BEGIN:VEVENT
SUMMARY:esdeveniment de prova
DTSTART;TZID=Europe/Madrid:20240223T080000
DTEND;TZID=Europe/Madrid:20240223T090000
DTSTAMP:20260420T065813Z
UID:9cb8094943284eb88976776945a1b62d@genweb.upc.edu
CREATED:20240223T074017Z
DESCRIPTION:asdasdasd
LAST-MODIFIED:20240223T074032Z
URL:https://genweb.upc.edu/ca/esdeveniments/esdeveniment-de-prova
END:VEVENT
BEGIN:VTIMEZONE
TZID:Europe/Madrid
X-LIC-LOCATION:Europe/Madrid
BEGIN:STANDARD
DTSTART:20231029T020000
TZNAME:CET
TZOFFSETFROM:+0200
TZOFFSETTO:+0100
END:STANDARD
END:VTIMEZONE
END:VCALENDAR
